BEGIN:VCALENDAR
VERSION:2.0
PRODID:-//eventon.com NONSGML v1.0//EN
CALSCALE:GREGORIAN
METHOD:PUBLISH
BEGIN:VEVENT
UID:69e8beaf315cb
DTSTAMP:20260422T122727Z
DTSTART:20261107T183000Z
DTEND:20261107T225000Z
LOCATION:
SUMMARY:"Verdrehte Welt" - Abendshow - mit Florian Steinborn
DESCRIPTION:Tickets --> www.villa-del-vino.de Verdrehte Welt in der Villa D
 el Vino! Florian Steinborn ist scheinbar ein echter Zauberer\,  Schlitzohr 
 und Musiker. Mit verblüffenden Geschichten\,  unglaublichen Illusionen und
  ironischen Liedern macht Florian daraus einen wunderbar kurzweiligen Abend
 . Das Publikum wird zum Star des Abends\,  verbiegt Löffel und nimmt staun
 end einen Funken Hoffnung[..]\nhttps://www.floriansteinborn.de/termine/verd
 rehte-welt-abendshow-mit-florian-steinborn/
URL:https://www.floriansteinborn.de/termine/verdrehte-welt-abendshow-mit-florian-steinborn/
END:VEVENT
END:VCALENDAR